BEGIN:VCALENDAR
VERSION:2.0
PRODID:-//eventon.com NONSGML v1.0//EN
CALSCALE:GREGORIAN
METHOD:PUBLISH
BEGIN:VEVENT
UID:69e4d17d0cc3c
DTSTAMP:20260419T125837Z
DTSTART:20250111T180000Z
DTEND:20250111T193000Z
LOCATION:Teatro Municipal de Tres Cantos
SUMMARY:Teatro: Dos tronos\,  dos reinas (de Pepe Cibrián)
DESCRIPTION:Red de Teatros de la Comunidad de Madrid Reparto: Nacho Guerrer
 os y Nicolás Pérez Costa Compañía: El Tío Caracoles Dos reinas\,  Dos 
 reinos… La lucha por un trono. Un encuentro imaginario que nunca existió
 . Una sentencia de muerte postergada. La feminidad y la masculinidad del po
 der a través de dos[..]\nhttps://360y5.es/events/teatro-dos-tronos-dos-rei
 nas-de-pepe-cibrian/
URL:https://360y5.es/events/teatro-dos-tronos-dos-reinas-de-pepe-cibrian/
END:VEVENT
END:VCALENDAR