BEGIN:VCALENDAR
VERSION:2.0
PRODID:-//eventon.com NONSGML v1.0//EN
CALSCALE:GREGORIAN
METHOD:PUBLISH
BEGIN:VEVENT
UID:69e4fd5d8e63d
DTSTAMP:20260419T160549Z
DTSTART:20250202T180000Z
DTEND:20250202T192000Z
LOCATION:Teatro Municipal de Tres Cantos
SUMMARY:Havi Potter y la parodia musical
DESCRIPTION:Compañía: BRODWEI El género de la parodia musical llega haci
 endo magia al Teatro de Tres Cantos. Havi Potter es un joven mago andaluz c
 uya misión es vencer al hechicero más tenebroso de todos los tiempos: Lor
 d Condemor. Para conseguirlo\,  Havi y sus amigos Ron Whisky y Herminia “
 la&nbsp; Greñas” tendrán[..]\nhttps://360y5.es/events/havi-potter-y-la-
 parodia-musical/
URL:https://360y5.es/events/havi-potter-y-la-parodia-musical/
END:VEVENT
END:VCALENDAR