BEGIN:VCALENDAR
VERSION:2.0
PRODID:-//eventon.com NONSGML v1.0//EN
CALSCALE:GREGORIAN
METHOD:PUBLISH
BEGIN:VEVENT
UID:69e4fa5478668
DTSTAMP:20260419T155252Z
DTSTART:20250323T110000Z
DTEND:20250323T120000Z
LOCATION:Auditorio municipal
SUMMARY:Espectáculo familiar: Cucú-trastrás... miedo no tendrás
DESCRIPTION:Compañía: Arteluna Teatro Pelusa tiene miedo a las brujas\,  
 los fantasmas\,  los monstruos… A través de los cuentos y vuestra ayuda 
 como trasteadores quizás consigamos que tenga un poquito menos… ¿Nos ay
 udas a conseguirlo? Entrada: 3 € Venta de entradas: en horario habitual
  de taquilla y en www.giglon.com\nhttps://360y5.es/events/espectaculo-fam
 iliar-cucu-trastras-miedo-no-tendras/
URL:https://360y5.es/events/espectaculo-familiar-cucu-trastras-miedo-no-tendras/
END:VEVENT
END:VCALENDAR