BEGIN:VCALENDAR
VERSION:2.0
PRODID:-//eventon.com NONSGML v1.0//EN
CALSCALE:GREGORIAN
METHOD:PUBLISH
BEGIN:VEVENT
UID:69e4cc1b73a0c
DTSTAMP:20260419T123539Z
DTSTART:20250627T170000Z
DTEND:20250627T180000Z
LOCATION:Teatro Municipal de Tres Cantos
SUMMARY:Teatro: Tragedias de Shakespeare
DESCRIPTION:Asociación Con Dramas y a lo Loco Dirección: Susana Merino Un
  grupo de chavales quieren representar una obra de teatro\,  pero no cualqu
 ier texto. Les gustan los dramaturgos clásicos y deciden representar las t
 ragedias de Shakespeare. Con tintes de humor y a su manera\,  llevan a cabo
  la representación de[..]\nhttps://360y5.es/events/teatro-tragedias-de-sha
 kespeare/
URL:https://360y5.es/events/teatro-tragedias-de-shakespeare/
END:VEVENT
END:VCALENDAR