BEGIN:VCALENDAR
VERSION:2.0
PRODID:-//eventon.com NONSGML v1.0//EN
CALSCALE:GREGORIAN
METHOD:PUBLISH
BEGIN:VEVENT
UID:69ea3f105d456
DTSTAMP:20260423T154728Z
DTSTART:20260314T180000Z
DTEND:20260314T192000Z
LOCATION:Teatro Municipal de Tres Cantos
SUMMARY:Ainhoa Arteta y Luis Santana: Recital de ópera y zarzuela
DESCRIPTION:(Red de Teatros de la Comunidad de Madrid) Ainhoa Arteta &#8211
 ; SopranoLuis Santana &#8211; BarítonoVíctor Carbajo &#8211; Piano Ainhoa
  Arteta\,  una de las sopranos más aclamadas a nivel internacional\,  pres
 enta su Recital de Ópera y Zarzuela junto al barítono zamorano Luis Santa
 na acompañados por el pianista Víctor Carbajo. Con una[..]\nhttps://360y5
 .es/events/ainhoa-arteta-y-luis-santana-recital-de-opera-y-zarzuela/
URL:https://360y5.es/events/ainhoa-arteta-y-luis-santana-recital-de-opera-y-zarzuela/
END:VEVENT
END:VCALENDAR